BEGIN:VCALENDAR
VERSION:2.0
PRODID:Events Booking
BEGIN:VEVENT
UID:69eaad5e75e81
SUMMARY:Virtual Brand and Land with John Signo
DESCRIPTION:Abstract:
 NCPMI in partnership with hosting chapter PMI Dalla
 s is offering Virtual Brand and Land with John Signo. The event will be ho
 sted online via&nbsp\;ZOOM.&nbsp\;
 &nbsp\;
 Event Overview:
 Participa
 nts will learn to create a better Brand through various tools\, including&
 nbsp\;LinkedIn\, their resumes\, the Applicant Tracking System (ATS) Tool\
 , and social media.
 
 LinkedIn (the Dos and Dont's)
 Resumes
 Applica
 nt Tracking System (“show and tell”)
 
LOCATION:Virtual (URL for the session will be provided prior to each weekly
  session)
DTSTART:20210501T150000Z
DTEND:20210501T203000Z
DTSTAMP:20260423T233806Z
ORGANIZER;CN=PMI North Carolina Chapter:MAILTO:bounce@ncpmi.org
GEO:35.896166;-78.870311
X-APPLE-STRUCTURED-LOCATION;VALUE=URI;X-ADDRESS=Virtual (URL for the sessio
 n will be provided prior to each weekly session);X-APPLE-RADIUS=72;X-TITLE
 =Virtual (URL for the session will be provided prior to each weekly sessio
 n):35.896166;-78.870311
END:VEVENT
END:VCALENDAR