BEGIN:VCALENDAR
VERSION:2.0
PRODID:Events Booking
BEGIN:VEVENT
UID:69ea1438b3c5f
SUMMARY:test
DESCRIPTION:this is a test&nbsp\;
LOCATION:8001 Development Dr\, Morrisville\, NC 27560\, USA
DTSTART:20200312T093000Z
DTEND:20200312T110000Z
DTSTAMP:20260423T124440Z
ORGANIZER;CN=PMI North Carolina Chapter:MAILTO:bounce@ncpmi.org
GEO:35.863749;-78.878058
X-APPLE-STRUCTURED-LOCATION;VALUE=URI;X-ADDRESS=8001 Development Dr\, Morri
 sville\, NC 27560\, USA;X-APPLE-RADIUS=72;X-TITLE=Lenovo - RTP:35.863749;-
 78.878058
END:VEVENT
END:VCALENDAR