BEGIN:VCALENDAR
VERSION:2.0
PRODID:Events Booking
BEGIN:VEVENT
UID:69ea14ed73d7e
SUMMARY:Stress Management Coaching with Ruth Pearce - Monday Series
DESCRIPTION:Abstract:
 NCPMI in partnership with Project Motivator (ALLE L
 LC)\, Ruth Pearce\, is offering&nbsp\;FREE group coaching for our members.
  These sessions&nbsp\;will be hosted online via ZOOM by Ruth Pearce and so
 me of her co-coaches.&nbsp\; 
 Topics include:
 
 Leading in Times of U
 ncertainty
 Choosing a role model to lead by
 From Me to We - Fostering 
 Team support and more!
 
DTSTART:20200406T220000Z
DTEND:20200504T230000Z
DTSTAMP:20260423T124741Z
ORGANIZER;CN=PMI North Carolina Chapter:MAILTO:bounce@ncpmi.org
END:VEVENT
END:VCALENDAR