BEGIN:VCALENDAR
VERSION:2.0
PRODID:Events Booking
BEGIN:VEVENT
UID:69ea42c384075
SUMMARY:Communications CoP: Step up\, Level up\, and Never give up to Inspi
 re Others
DESCRIPTION:This is a NCPMI Communication &amp\; Public Speaking CoP- NCPL 
 Toastmasters Club Meeting. The Meeting includes networking\, inspirational
  thoughts\, prepared speeches\, table topics\, evaluations\, with multiple
  meeting operations roles. 5:30 pm – 8:00 pm (5:30 pm – 6:10 pm) Pre-m
 eeting Networking
 Meeting will be convened by Virtual Conference Call
 
 Title:&nbsp\; Step up\, Level up\, and Never give up to Inspire Others
 A
 bstract
 The first step in serving is to&nbsp\;sign up&nbsp\;to serve. Th
 e action is worth a thousand words.
 There are many ups and downs in life
 \, but I’ve created fun and learned many valuable lessons during Covid-1
 9 crisis.
 During this crisis\, what can an individual do to contribute t
 o others? There is no one absolute answer to this\, but through a self-pub
 lishing project\, this speech aids to inspire you to step up\, level up\, 
 and inspire others together. I will be sharing the journey to publishing a
 nd the project experience with my first book – “Mommy is a project man
 ager”\, from the idea to publishing.
DTSTART:20200714T213000Z
DTEND:20200715T000000Z
DTSTAMP:20260423T160315Z
ORGANIZER;CN=PMI North Carolina Chapter:MAILTO:bounce@ncpmi.org
END:VEVENT
END:VCALENDAR