BEGIN:VCALENDAR
VERSION:2.0
PRODID:Events Booking
BEGIN:VEVENT
UID:69ea587ab268d
SUMMARY:Healthcare CoP: “Scientists say…” critically evaluating scien
 ce for non-scientists
DESCRIPTION:Abstract
 The infectious disease COVID-19 is crippling most as
 pects of society. Ending this pandemic will require scientists to develop 
 ways of diagnosing\, treating and preventing the disease\, and the public 
 is understandably eager to know how close scientists are to these goals. H
 owever\, scientists often struggle to effectively communicate their resear
 ch to non-experts\, and both politicians and the media are imperfect inter
 mediaries. Using examples relevant to COVID-19\, this talk will help non-s
 cientists to evaluate what scientists say and understand what they really 
 mean. It will also provide advice for effectively discussing technical inf
 ormation with lay audiences.
 Objectives:
 - Understand the “business
 ” of science
 - Learn how to evaluate the who\, what\, and why of scien
 ce communication
 - Identify common unreported limitations of scientific 
 studies
 - Discuss ways scientists and non-scientists can communicate mor
 e effectively
 About the Speaker
 
 Andrew Macintyre\, PhD\, PMP is a m
 ember of the faculty at the Duke Human Vaccine Institute (DHVI)\, where he
  leads a team developing treatments and vaccines for infectious diseases. 
 Prior to joining the DHVI\, he managed professional development and educat
 ion projects for the American Society for Biochemistry and Molecular Biolo
 gy.
 &nbsp\;
 &nbsp\;
 &nbsp\;
 &nbsp\;
 &nbsp\;
 &nbsp\;
 Meeting 
 Details:
 Join Zoom Meeting
 https://zoom.us/j/98392830316?pwd=UEYzNFhrM
 zVFcFdNc2lRQXBQNTAyQT09
 Meeting ID: 983 9283 0316
 Passcode: 305156
 O
 ne tap mobile
 +19292056099\,\,98392830316#\,\,\,\,\,\,0#\,\,305156# US (
 New York)
 +13017158592\,\,98392830316#\,\,\,\,\,\,0#\,\,305156# US (Germ
 antown)
 Dial by your location
 &nbsp\; &nbsp\; &nbsp\; &nbsp\; +1 929 2
 05 6099 US (New York)
 &nbsp\; &nbsp\; &nbsp\; &nbsp\; +1 301 715 8592 US
  (Germantown)
 &nbsp\; &nbsp\; &nbsp\; &nbsp\; +1 312 626 6799 US (Chicag
 o)
 &nbsp\; &nbsp\; &nbsp\; &nbsp\; +1 669 900 6833 US (San Jose)
 &nbsp
 \; &nbsp\; &nbsp\; &nbsp\; +1 253 215 8782 US (Tacoma)
 &nbsp\; &nbsp\; &
 nbsp\; &nbsp\; +1 346 248 7799 US (Houston)
 Meeting ID: 983 9283 0316
 
 Passcode: 305156
 Find your local number: https://zoom.us/u/acZa1tnjP7
LOCATION:Conference Bridge
DTSTART:20201007T220000Z
DTEND:20201007T230000Z
DTSTAMP:20260423T173554Z
ORGANIZER;CN=PMI North Carolina Chapter:MAILTO:bounce@ncpmi.org
END:VEVENT
END:VCALENDAR