BEGIN:VCALENDAR
VERSION:2.0
PRODID:Events Booking
BEGIN:VEVENT
UID:69ea17985da50
SUMMARY:Healthcare CoP: Risk Management in the Life Sciences Industry
DESCRIPTION:
DTSTART:20221006T220000Z
DTEND:20221006T230000Z
DTSTAMP:20220906T160814Z
ORGANIZER;CN=PMI North Carolina Chapter:MAILTO:bounce@ncpmi.org
END:VEVENT
END:VCALENDAR