BEGIN:VCALENDAR
VERSION:2.0
PRODID:Events Booking
BEGIN:VEVENT
UID:69ea58fd6e0b8
SUMMARY:Raffle for Headshots at September Chapter Meeting
DESCRIPTION:The NCPMI Board Members are happy to give a free headshot sessi
 on to 10 lucky members!&nbsp\; Please register by 09/11/20&nbsp\;&nbsp\;fo
 r your chance to win. Once registration is closed\, a raffle will be held 
 to draw 10 winners from those who have registered.&nbsp\; The winners will
  be notified by 09/14/20.&nbsp\; Winners must be available as early as 5:1
 5pm on the day of the chapter meeting.&nbsp\;&nbsp\;&nbsp\;
LOCATION:4700 Emperor Blvd\, Research Triangle Park
DTSTART:20200917T211500Z
DTEND:20200917T223000Z
DTSTAMP:20260423T173805Z
ORGANIZER;CN=PMI North Carolina Chapter:MAILTO:bounce@ncpmi.org
GEO:35.877952;-78.84081
X-APPLE-STRUCTURED-LOCATION;VALUE=URI;X-ADDRESS=4700 Emperor Blvd\, Researc
 h Triangle Park;X-APPLE-RADIUS=72;X-TITLE=Sheraton Imperial RTP:35.877952;
 -78.84081
END:VEVENT
END:VCALENDAR