BEGIN:VCALENDAR
VERSION:2.0
PRODID:Events Booking
BEGIN:VEVENT
UID:69ea6dd213fea
SUMMARY:Q4: Networking with a Purpose
DESCRIPTION:The NCPMI Chapter invites you to attend our “networking with 
 a purpose” event. We will have a local recruiting company to present on 
 who they are and what they do\, as well as what current job openings they 
 are looking to fill. Please bring copies of you resume and business cards.
  This event is for our members only.
LOCATION:800 Park Offices Dr\, Durham\, NC 27703\, USA
DTSTART:20201112T230000Z
DTEND:20201113T010000Z
DTSTAMP:20260423T190658Z
ORGANIZER;CN=PMI North Carolina Chapter:MAILTO:bounce@ncpmi.org
GEO:35.896168;-78.870304
X-APPLE-STRUCTURED-LOCATION;VALUE=URI;X-ADDRESS=800 Park Offices Dr\, Durha
 m\, NC 27703\, USA;X-APPLE-RADIUS=72;X-TITLE=The Frontier:35.896168;-78.87
 0304
END:VEVENT
END:VCALENDAR