BEGIN:VCALENDAR
VERSION:2.0
PRODID:Events Booking
BEGIN:VEVENT
UID:69ea42145c399
SUMMARY:*UPDATED*Virtual Networking/Recruiter Event Q3
DESCRIPTION:The NCPMI Chapter invites you to attend our virtual “networki
 ng with a purpose” event. We will have a local recruiting company to pre
 sent on who they are and what they do\, as well as what current job openin
 gs they are looking to fill. Reminder\, that this event is for our members
  only.Tips and recommendations for Network/Recruiter Event\, treat this as
  a professional event:
 
 Have an electronic copy of your resume ready f
 or sharing
 Be prepared to be on camera with a professional setting as yo
 ur background
 Test your audio and video quality when or before connectin
 g to the Zoom event
 
DTSTART:20200805T220000Z
DTEND:20200806T000000Z
DTSTAMP:20260423T160020Z
ORGANIZER;CN=PMI North Carolina Chapter:MAILTO:bounce@ncpmi.org
END:VEVENT
END:VCALENDAR