BEGIN:VCALENDAR
VERSION:2.0
PRODID:Events Booking
BEGIN:VEVENT
UID:69ec9dd836138
SUMMARY:Public Sector CoP: November 2019...Tune in later for details...
DESCRIPTION:
LOCATION:7001 Weston Pkwy #100\, Cary\, NC 27513\, USA
DTSTART:20191120T223000Z
DTEND:20191121T000000Z
DTSTAMP:20260425T105624Z
ORGANIZER;CN=PMI North Carolina Chapter:MAILTO:bounce@ncpmi.org
GEO:35.828363;-78.791424
X-APPLE-STRUCTURED-LOCATION;VALUE=URI;X-ADDRESS=7001 Weston Pkwy #100\, Car
 y\, NC 27513\, USA;X-APPLE-RADIUS=72;X-TITLE=Matrix:35.828363;-78.791424
END:VEVENT
END:VCALENDAR