BEGIN:VCALENDAR
VERSION:2.0
PRODID:Events Booking
BEGIN:VEVENT
UID:69ea2ef401bf3
SUMMARY:Public Sector CoP June 2020: Project Management for Smart and Conne
 cted Community Initiatives
DESCRIPTION:Hear from Terry Yates\, Smart Cities &amp\; IT Project Manager 
 from the Town of Cary\, about Cary’s Smart and Connected Ecosystem and w
 orking with regional partners on Smart Cities initiatives. He will touch o
 n some of the challenges he faced and lessons learned while highlighting a
  few objectives.
DTSTART:20200617T220000Z
DTEND:20200617T230000Z
DTSTAMP:20260423T143844Z
ORGANIZER;CN=PMI North Carolina Chapter:MAILTO:bounce@ncpmi.org
END:VEVENT
END:VCALENDAR