BEGIN:VCALENDAR
VERSION:2.0
PRODID:Events Booking
BEGIN:VEVENT
UID:69ea42e26d243
SUMMARY:Public Sector CoP July 2020-5 Keys to Effective Communication
DESCRIPTION:Abstract
 The ability to communicate effectively is perhaps th
 e most important life skill\, impacting all aspects of your life both pers
 onally and professionally. This skill can take a lifetime to master. Howev
 er\, there are ways to maximize your personal development\, moving you in 
 the direction of becoming an effective communicator.
 In this session\, D
 arlena will discuss 5 keys to effective communication.
 Learning Objectiv
 es 
 Attendees will get a better understanding of the following:
 
 
 
 Improve team communication and collaboration
 
 
 Establish a culture w
 hich allows teams to achieve objectives
 
 
 Motivate and inspire a sen
 se of teamwork\, urgency and ownership
 
 
 Present complex issues clea
 rly
 
 
 About the Speaker
 
 Darlena Swann\,&nbsp\;MBA\, DTM\, joine
 d Toastmasters International to overcome her fear of public speaking. In J
 une year she achieved her Distinguished Toastmaster (DTM)--the organizatio
 n's highest educational award.&nbsp\;She is a member of two clubs: Blue De
 vil and Bull City Toastmasters. In 2018-19 she served as Area Director and
  earned the Select Distinguished&nbsp\;status.
 Darlena is an educator in
  the Durham Public School System\, CEO and Founder of her own nonprofit\, 
 Boss Lady Enterprise\, and author of the motivational book titled\, \"The 
 Ladybug - Words from the Heart.\" Her&nbsp\;passions are&nbsp\;community o
 utreach service\, youth mentoring\, professional development and yoga.
DTSTART:20200715T220000Z
DTEND:20200715T230000Z
DTSTAMP:20260423T160346Z
ORGANIZER;CN=PMI North Carolina Chapter:MAILTO:bounce@ncpmi.org
END:VEVENT
END:VCALENDAR