BEGIN:VCALENDAR
VERSION:2.0
PRODID:Events Booking
BEGIN:VEVENT
UID:69ea04009095d
SUMMARY:PMO CoP Feb 2020 : The Mergers & Acquisitions PMO
DESCRIPTION:The Mergers &amp\; Acquisitions PMO
 The world of mergers &amp
 \; acquisitions is exciting and dynamic\, requiring strong project leaders
 hip for success.&nbsp\; The lifecycle of a transaction broadly includes id
 entifying the target\, signing a term sheet\, performing due diligence and
 \, finally\, integrating the target company. This interactive session will
  explore the Integration Management Office (IMO)\, a close cousin to the P
 MO\, which drives that final step of knitting two organizations together. 
 We will compare and contrast the two offices including missions\, terminol
 ogies\, responsibilities\, and technologies.
 Learning objectives:
 
 U
 nderstand why the IMO exists
 Learn M&amp\;A terminology
 Explore simila
 rities &amp\; differences between PMO &amp\; IMO
 Review how to apply PMO
  skills in M&amp\;A integrations
 
LOCATION:5440 Wade Park Blvd #101\, Raleigh\, NC 27607\, USA
DTSTART:20200212T223000Z
DTEND:20200213T000000Z
DTSTAMP:20260423T113528Z
ORGANIZER;CN=PMI North Carolina Chapter:MAILTO:bounce@ncpmi.org
GEO:35.808115;-78.729509
X-APPLE-STRUCTURED-LOCATION;VALUE=URI;X-ADDRESS=5440 Wade Park Blvd #101\, 
 Raleigh\, NC 27607\, USA;X-APPLE-RADIUS=72;X-TITLE=Insight\, 5440 Wade Par
 k Blvd #101\, Raleigh\, NC 27607\,:35.808115;-78.729509
END:VEVENT
END:VCALENDAR