BEGIN:VCALENDAR
VERSION:2.0
PRODID:Events Booking
BEGIN:VEVENT
UID:69e9d7a74080b
SUMMARY:PMO CoP: Emotional Intelligence for Project Management Success
DESCRIPTION:Abstract:Have you ever wondered why navigating difficult situat
 ions with managing projects seems to be a breeze for some people? It could
  be related to highly developed emotional intelligence. Emotional intellig
 ence - also referred to as emotional quotient or EQ - is the awareness of 
 one's own emotions and the emotions of others\, and the capability to mana
 ge those emotions to achieve desirable outcomes. Join us for a fun and eng
 aging workshop as we dive into the four components of emotional intelligen
 ce and practice some techniques anyone can use to develop their own EQ.
 
 Learning Objectives:
 
 Understand the components of EQ
 Self-assessmen
 t of EQ level
 Learning activities for improving EQ
 
LOCATION:5440 Wade Park Blvd #101\, Raleigh\, NC 27607\, USA
DTSTART:20190821T213000Z
DTEND:20190822T000000Z
DTSTAMP:20260423T082615Z
ORGANIZER;CN=PMI North Carolina Chapter:MAILTO:bounce@ncpmi.org
GEO:35.808115;-78.729509
X-APPLE-STRUCTURED-LOCATION;VALUE=URI;X-ADDRESS=5440 Wade Park Blvd #101\, 
 Raleigh\, NC 27607\, USA;X-APPLE-RADIUS=72;X-TITLE=Insight\, 5440 Wade Par
 k Blvd #101\, Raleigh\, NC 27607\,:35.808115;-78.729509
END:VEVENT
END:VCALENDAR