BEGIN:VCALENDAR
VERSION:2.0
PRODID:Events Booking
BEGIN:VEVENT
UID:69ea708a31b25
SUMMARY:PDD of the Carolinas and Virginia
DESCRIPTION:
 
 Who:&nbsp\;The three North Carolina PMI chapters and the 
 Hampton Roads Chapter are working together to bring a half-day all virtual
  professional development event to project professionals of all kinds in N
 orth Carolina\, South Carolina\, and Virginia.
 &nbsp\;
 What:&nbsp\;We 
 will host two keynote and 9 breakout sessions designed to help you adapt i
 n our ever-changing Project Economy. There will also be opportunities to c
 onnect with PMI chapter partners and other project managers throughout the
  day.
 
 Cost:&nbsp\;$79 per person ($69 per active duty or military vet
 eran).&nbsp\;
 PDUs:&nbsp\;Up to 11 for prospective or current PMPs (PDUs
  vary for other certifications i.e. PgMP\, PfMP)&nbsp\;
 REGISTRATION:&nb
 sp\;Sign up today at&nbsp\;PDD of the Carolinas&nbsp\;for this special joi
 nt professional development opportunity!
 
 &nbsp\;
 
DTSTART:20201023T160000Z
DTEND:20201023T212500Z
DTSTAMP:20260423T191834Z
ORGANIZER;CN=PMI North Carolina Chapter:MAILTO:bounce@ncpmi.org
END:VEVENT
END:VCALENDAR