BEGIN:VCALENDAR
VERSION:2.0
PRODID:Events Booking
BEGIN:VEVENT
UID:69ea700749a53
SUMMARY:NextGen: Personal Branding - Techniques to help you get noticed to 
 help your career take off.
DESCRIPTION:AbstractIn this session\, we’ll touch on techniques that will
  enhance how to level up in your career through conversations with your pe
 ers. The session will cover in greater detail how to polish your public sp
 eaking skills and joining organizations like the Toastmasters COP to maste
 r the art of conversation. The session will also provide the skills necess
 ary to perform a successful interview. Lastly\, the session will define em
 otional intelligence and how to create new professional relationships and 
 enhance existing ones.
DTSTART:20201020T230000Z
DTEND:20201020T233000Z
DTSTAMP:20260423T191623Z
ORGANIZER;CN=PMI North Carolina Chapter:MAILTO:bounce@ncpmi.org
END:VEVENT
END:VCALENDAR