BEGIN:VCALENDAR
VERSION:2.0
PRODID:Events Booking
BEGIN:VEVENT
UID:69ea988be2e80
SUMMARY:NextGen: Agile at 30\,000 Feet
DESCRIPTION:Abstract
 Processes\, frameworks\, and ways of working are all
  around SDLC professionals now and we are constantly bombarded with why on
 e is better than the other. What we don’t get is an open conversation ar
 ound which to use when. It is usually a one-sided conversation focused on 
 a specific option.
 In this presentation we will start with a very high-l
 evel overview of Agile as a way of working and the breakout of Agile pract
 ices based on core use. From there we will look at comparison of the Agile
  way of working verses the waterfall way. We will discuss pros and cons of
  each in different environments. Finally\, we will end with a practical lo
 ok at skills\, mindsets\, and capabilities required to get effective use o
 ut of the Agile way and which process fits specific situations.
 The prim
 ary goal is to give the attendee a way to critically consider the options 
 available to them based on the type of company they work within\, the cult
 ure of that company\, the skills of the team and the investment (time and 
 or money available).
 &nbsp\;
DTSTART:20210330T230000Z
DTEND:20210330T233000Z
DTSTAMP:20260423T220915Z
ORGANIZER;CN=PMI North Carolina Chapter:MAILTO:bounce@ncpmi.org
END:VEVENT
END:VCALENDAR