BEGIN:VCALENDAR
VERSION:2.0
PRODID:Events Booking
BEGIN:VEVENT
UID:69e7a0071c4b7
SUMMARY:NCPMI ELECTRONIC VOTING
DESCRIPTION:https://ncpmi.org/about-us/2019-ncpmi-chapter-elections
DTSTART:20190818T040000Z
DTEND:20190830T035500Z
DTSTAMP:20260421T160423Z
ORGANIZER;CN=PMI North Carolina Chapter:MAILTO:bounce@ncpmi.org
END:VEVENT
END:VCALENDAR