BEGIN:VCALENDAR
VERSION:2.0
PRODID:Events Booking
BEGIN:VEVENT
UID:69ea050f6dd4c
SUMMARY:NCPMI Annual Conference Interest Meeting: Call for Volunteers for t
 he NCPMI Annual Conference Core Planning Team!
DESCRIPTION:
LOCATION:7200 Kit Creek Rd\, Morrisville\, NC 27560\, USA
DTSTART:20200124T220000Z
DTEND:20200124T233000Z
DTSTAMP:20260423T113959Z
ORGANIZER;CN=PMI North Carolina Chapter:MAILTO:bounce@ncpmi.org
GEO:35.858729;-78.875737
X-APPLE-STRUCTURED-LOCATION;VALUE=URI;X-ADDRESS=7200 Kit Creek Rd\, Morrisv
 ille\, NC 27560\, USA;X-APPLE-RADIUS=72;X-TITLE=Cisco Campus - Building 11
 :35.858729;-78.875737
END:VEVENT
END:VCALENDAR