BEGIN:VCALENDAR
VERSION:2.0
PRODID:Events Booking
BEGIN:VEVENT
UID:69e4ed1223c70
SUMMARY:Leadership CoP: The Mindful Influence
DESCRIPTION:Abstract
 For project managers\, age or generational diversity
  may amplify communication challenges\, increase barriers on the path to c
 onsensus\, and require nuanced approaches to effectively engaging employee
 s. For example\, you may have found yourself thinking \"how can I improve 
 my impact on team members and achieve the desired outcomes in the face of 
 differing values\, experience sets\, and communication styles?\" While it 
 may seem like an insurmountable goal to cultivate an efficient and effecti
 ve environment for employees across generations\, practicing the right for
 m of mindfulness can provide unprecedented clarity into the obstacles and 
 solutions.
 Please note: Although this session builds on the information 
 in the May 10th workshop\, it is not necessary to have attended that event
  to learn about mindful influence and walk away with practical understandi
 ng and actions
LOCATION:8001 Development Dr\, Morrisville\, NC 27560\, USA
DTSTART:20190314T213000Z
DTEND:20190314T230000Z
DTSTAMP:20260419T145618Z
ORGANIZER;CN=PMI North Carolina Chapter:MAILTO:bounce@ncpmi.org
GEO:35.863749;-78.878058
X-APPLE-STRUCTURED-LOCATION;VALUE=URI;X-ADDRESS=8001 Development Dr\, Morri
 sville\, NC 27560\, USA;X-APPLE-RADIUS=72;X-TITLE=Lenovo - RTP:35.863749;-
 78.878058
END:VEVENT
END:VCALENDAR