BEGIN:VCALENDAR
VERSION:2.0
PRODID:Events Booking
BEGIN:VEVENT
UID:69ea9a7f12aac
SUMMARY:Innovation COP - The Product Lifecycle of Innovation
DESCRIPTION:Innovation COP - The Product Lifecycle of Innovation
DTSTART:20211005T220000Z
DTEND:20211005T230000Z
DTSTAMP:20260423T221735Z
ORGANIZER;CN=PMI North Carolina Chapter:MAILTO:bounce@ncpmi.org
END:VEVENT
END:VCALENDAR