BEGIN:VCALENDAR
VERSION:2.0
PRODID:Events Booking
BEGIN:VEVENT
UID:69ea8210434a6
SUMMARY:10 Weeks of Group Coaching- Navigating Challenges Through Strengths
  with the In It Together Coaches & Ruth Pearce (ALLE LLC)
DESCRIPTION:Abstract:
 
 NCPMI in partnership with Project Motivator (ALL
 E LLC)is&nbsp\;offering In It Together Coaching - Navigating Challenges 
 Through Strengths.&nbsp\;The&nbsp\;member&nbsp\;cost for this series is $1
 00and will be hosted online via ZOOM by&nbsp\;the&nbsp\;In&nbsp\;it Toge
 ther Coaches &amp\;&nbsp\;Ruth Pearce. &nbsp\;
 
 
 Want to know more
  about the team of coaches? Check them out here:&nbsp\;https://projectmoti
 vator.com/about/ 
 
 Topics include:
 
 Knowing &amp\; using your stre
 ngths
 Using your strengths to lead
 
 What do I want to focus on next?
LOCATION:Virtual (URL for the session will be provided prior to each weekly
  session)
DTSTART:20210112T233000Z
DTEND:20210113T004500Z
DTSTAMP:20260423T203320Z
ORGANIZER;CN=PMI North Carolina Chapter:MAILTO:bounce@ncpmi.org
GEO:35.896166;-78.870311
X-APPLE-STRUCTURED-LOCATION;VALUE=URI;X-ADDRESS=Virtual (URL for the sessio
 n will be provided prior to each weekly session);X-APPLE-RADIUS=72;X-TITLE
 =Virtual (URL for the session will be provided prior to each weekly sessio
 n):35.896166;-78.870311
END:VEVENT
END:VCALENDAR