BEGIN:VCALENDAR
VERSION:2.0
PRODID:Events Booking
BEGIN:VEVENT
UID:69ea42e20cff5
SUMMARY:How to Build Influence and Gain Trust as a Young Project Manager
DESCRIPTION:Join NextGen for a webinar coming August 18\, 2020:&nbsp\;How t
 o Build Influence and Gain Trust as a Young Project Manager.
 Are you a y
 oung or emerging project manager leading a diverse team of professionals? 
 Are you looking to optimize the way you establish trust and rapport with o
 thers\, especially those with more experience than you? In this webinar ho
 sted by NextGen at NCPMI\, we’ll hear from David Mantica\, VP &amp\; Gen
 eral Manager of SoftEd to explore techniques to establish trust\, show com
 petence\, and communicate effectively within diverse teams. You’ll also 
 learn about the importance of how you are perceived\, the internal motivat
 ions of others\, and how to get buy-in from team members.&nbsp\;
DTSTART:20200818T230000Z
DTEND:20200818T233000Z
DTSTAMP:20260423T160346Z
ORGANIZER;CN=PMI North Carolina Chapter:MAILTO:bounce@ncpmi.org
END:VEVENT
END:VCALENDAR