BEGIN:VCALENDAR
VERSION:2.0
PRODID:Events Booking
BEGIN:VEVENT
UID:69ea2f002937c
SUMMARY:Higher Education CoP:  What Do You Do About The Sandpaper People?
DESCRIPTION:What Do You Do About The Sandpaper People?
 Josh Bledsoe\,&nbs
 p\;Training Instructor and Coach\, Dale Carnegie
 June 17\, 12 PM - 1PM

  WebEx: https://bit.ly/HECoP
DTSTART:20200617T160000Z
DTEND:20200617T170000Z
DTSTAMP:20260423T143856Z
ORGANIZER;CN=PMI North Carolina Chapter:MAILTO:bounce@ncpmi.org
END:VEVENT
END:VCALENDAR