BEGIN:VCALENDAR
VERSION:2.0
PRODID:Events Booking
BEGIN:VEVENT
UID:69ea5ba41a274
SUMMARY:Higher Education CoP September 2020: Toolbox Café - Who Could Have
  Predicted This? A look into Risk Management Tools
DESCRIPTION:Title: &nbsp\;Toolbox Café - Who Could Have Predicted This? A 
 look into Risk Management Tools
 Speaker: Christine Purchell PMP\, CPTD

  Webex Link:&nbsp\;https://qrgo.page.link/UDpFx
DTSTART:20200930T160000Z
DTEND:20200930T170000Z
DTSTAMP:20260423T174924Z
ORGANIZER;CN=PMI North Carolina Chapter:MAILTO:bounce@ncpmi.org
END:VEVENT
END:VCALENDAR