BEGIN:VCALENDAR
VERSION:2.0
PRODID:Events Booking
BEGIN:VEVENT
UID:69ea5cb98c8b8
SUMMARY:Higher Education CoP Sep 2020: A Dog in the Cancer Fight:  The Cons
 ortium for Canine Comparative Oncology 
DESCRIPTION:A Dog in the Cancer Fight:&nbsp\; The Consortium for Canine Com
 parative Oncology
 Speaker:&nbsp\; William Eward\, MD\, DVM
 WebEx Infor
 mation: https://qrgo.page.link/y8ANb
 Date: 09/24/2020
 Presentation: 12
 PM – 1PM
 Note: This is a Webinar-only event
DTSTART:20200924T160000Z
DTEND:20200924T170000Z
DTSTAMP:20260423T175401Z
ORGANIZER;CN=PMI North Carolina Chapter:MAILTO:bounce@ncpmi.org
END:VEVENT
END:VCALENDAR