BEGIN:VCALENDAR
VERSION:2.0
PRODID:Events Booking
BEGIN:VEVENT
UID:69ea70fda81bc
SUMMARY:Higher Education CoP Oct 2020: Beyond the PMBOoK: Journey to the Se
 cret Sauce| A Discussion of ‘COVID-19: A 7-Step Response Plan for Projec
 t Managers’ by Michael Clayton
DESCRIPTION:Beyond the PMBOoK: Journey to the Secret Sauce| A Discussion of
  ‘COVID-19: A 7-Step Response Plan for Project Managers’ by Michael Cl
 ayton
 Moderator: Terri West\, PMP
 October 20\, 2020 12- 1 PM
 WebEx R
 egistration Link:&nbsp\;https://qrgo.page.link/QbXj7
DTSTART:20201020T160000Z
DTEND:20201020T170000Z
DTSTAMP:20260423T192029Z
ORGANIZER;CN=PMI North Carolina Chapter:MAILTO:bounce@ncpmi.org
END:VEVENT
END:VCALENDAR