BEGIN:VCALENDAR
VERSION:2.0
PRODID:Events Booking
BEGIN:VEVENT
UID:69ea71407a7b2
SUMMARY:Higher Education CoP Nov 2020: Transition to Civilian Life: How I O
 vercame Military Injuries and Jumped Back into My Life with a New Career
DESCRIPTION:Transition to Civilian Life: How I Overcame Military Injuries a
 nd Jumped Back into My Life with a New Career
 Speaker: Billy DeWalt
 11
 /11/2020\, 12- 1 PM
 WebEx Registration:&nbsp\;https://qrgo.page.link/iaX
 Pg
DTSTART:20201111T170000Z
DTEND:20201111T180000Z
DTSTAMP:20260423T192136Z
ORGANIZER;CN=PMI North Carolina Chapter:MAILTO:bounce@ncpmi.org
END:VEVENT
END:VCALENDAR