BEGIN:VCALENDAR
VERSION:2.0
PRODID:Events Booking
BEGIN:VEVENT
UID:69ea43b378930
SUMMARY:Higher Education CoP July 2020: Beyond the PMBOoK:  Journey to the 
 Secret Sauce| A Discussion of ‘The Power of Vulnerability’ by Brené B
 rown
DESCRIPTION:Beyond the PMBOoK:  Journey to the Secret Sauce| A Discussion 
 of ‘The Power of Vulnerability’ by Brené Brown
 Facilitator: Janet L
 ockhart\, CPA\, PMP
 WebEx Link: https://qrgo.page.link/vHYMz
DTSTART:20200730T160000Z
DTEND:20200730T170000Z
DTSTAMP:20260423T160715Z
ORGANIZER;CN=PMI North Carolina Chapter:MAILTO:bounce@ncpmi.org
END:VEVENT
END:VCALENDAR