BEGIN:VCALENDAR
VERSION:2.0
PRODID:Events Booking
BEGIN:VEVENT
UID:69ea42e3673cb
SUMMARY:Higher Education CoP July 15 2020: Microsoft Teams for Project Mana
 gers
DESCRIPTION:Toolbox Cafe:&nbsp\; Microsoft Teams for Project Managers
 Gar
 y Hoke\, MBA\, PMP\, CSM\, CSPB
 Hilary Bouton-Verville\, PSM\, RLATG
 W
 ebEx Link:&nbsp\;https://qrgo.page.link/Fd6vh
DTSTART:20200715T160000Z
DTEND:20200715T170000Z
DTSTAMP:20260423T160347Z
ORGANIZER;CN=PMI North Carolina Chapter:MAILTO:bounce@ncpmi.org
END:VEVENT
END:VCALENDAR