BEGIN:VCALENDAR
VERSION:2.0
PRODID:Events Booking
BEGIN:VEVENT
UID:69ea8402b019f
SUMMARY:Higher Education CoP Jan 2021: COVID- Bed Tower
DESCRIPTION:COVID Bed Tower
 Val Eatmon and Pat Kenney\, Duke Health Techn
 ology Solutions
 Jan 19\, 2021: 12 - 1 PM
 Register at:&nbsp\;https://qr
 go.page.link/5noUL
DTSTART:20210119T170000Z
DTEND:20210119T180000Z
DTSTAMP:20260423T204138Z
ORGANIZER;CN=PMI North Carolina Chapter:MAILTO:bounce@ncpmi.org
END:VEVENT
END:VCALENDAR