BEGIN:VCALENDAR
VERSION:2.0
PRODID:Events Booking
BEGIN:VEVENT
UID:69ea9d134c8fa
SUMMARY:Higher Education CoP Feb 2021: Helping to Create a Safe Workplace E
 nvironment for BIPOC Colleagues During COVID-19 
DESCRIPTION:Helping to Create a Safe Workplace Environment for BIPOC Collea
 gues During COVID-19
 Date: February 16\, 12-1:00pm
 Speaker: Lisa P. Da
 vis
 Registration: https://qrgo.page.link/7qfGJ
DTSTART:20210216T170000Z
DTEND:20210216T180000Z
DTSTAMP:20260423T222835Z
ORGANIZER;CN=PMI North Carolina Chapter:MAILTO:bounce@ncpmi.org
END:VEVENT
END:VCALENDAR