BEGIN:VCALENDAR
VERSION:2.0
PRODID:Events Booking
BEGIN:VEVENT
UID:69ea03ad0adf2
SUMMARY:Higher Education COP Earning PDUs and Continuing Education for Proj
 ect Managers
DESCRIPTION:Webinar: Earning PDUs and Continuing Education for Project Mana
 gers
 https://bit.ly/36TSc9F
 1-650-479-3207 Call-in number (US/Canada)
 
 Meeting number/access code: 735 023 972
 Password: PMCOP
DTSTART:20200213T170000Z
DTEND:20200213T180000Z
DTSTAMP:20260423T113405Z
ORGANIZER;CN=PMI North Carolina Chapter:MAILTO:bounce@ncpmi.org
END:VEVENT
END:VCALENDAR