BEGIN:VCALENDAR
VERSION:2.0
PRODID:Events Booking
BEGIN:VEVENT
UID:69ea15126b6c8
SUMMARY:Higher Education CoP April 2020: Using Mindfulness for Finding Purp
 ose and Meaning at Work
DESCRIPTION:On-line Only: Using Mindfulness for Finding Purpose and Meaning
  at Work
 Seminar: 3:00 - 4:00 PM
 WebEx:&nbsp\;&nbsp\;https://bit.ly/2W
 F58yA
DTSTART:20200409T190000Z
DTEND:20200409T200000Z
DTSTAMP:20260423T124818Z
ORGANIZER;CN=PMI North Carolina Chapter:MAILTO:bounce@ncpmi.org
END:VEVENT
END:VCALENDAR