BEGIN:VCALENDAR
VERSION:2.0
PRODID:Events Booking
BEGIN:VEVENT
UID:69ea03ad76cd3
SUMMARY:Higher Ed CoP - Visioning Your Project Management Success
DESCRIPTION:Visioning is a technique that allows the user to determine and 
 visualize their ultimate goals. This technique applies to for personal rel
 ationships\, career goals\, educational pursuits\, or for any individual p
 roject. The visioning technique and other tips can help inspire and unify 
 teams on projects.&nbsp\; For projects and project managers\, using vision
 ing to determine what success looks like\, helps to jumpstart the project 
 and build the pathway to success. It can help unite a team and bring posit
 ivity to the problem or task at hand and support project success.&nbsp\; J
 oin Dr. Davis as she guides us through visioning and strategies to support
  unifying teams for project managers.
 Networking: 2:30-3:00 pm
 Present
 ation: 3:00-4:00 pm
 &nbsp\;
LOCATION:701 W Main St\, Durham\, NC 27701\, USA
DTSTART:20200130T193000Z
DTEND:20200130T210000Z
DTSTAMP:20260423T113405Z
ORGANIZER;CN=PMI North Carolina Chapter:MAILTO:bounce@ncpmi.org
GEO:35.998782;-78.908137
X-APPLE-STRUCTURED-LOCATION;VALUE=URI;X-ADDRESS=701 W Main St\, Durham\, NC
  27701\, USA;X-APPLE-RADIUS=72;X-TITLE=The Chesterfield | 701 W Main St\, 
 Durham\, NC 27701:35.998782;-78.908137
END:VEVENT
END:VCALENDAR