BEGIN:VCALENDAR
VERSION:2.0
PRODID:Events Booking
BEGIN:VEVENT
UID:69ea587b52a4c
SUMMARY:Higher Ed CoP: Handling Mistakes\, Problem Solving\, and Six Sigma
DESCRIPTION:Handling Mistakes\, Problem Solving\, and Six Sigma
 Speaker: 
 Julie Eckstrand\, R. Ph.
 Date: 10.08.2020
 Location: WebEx
 Seminar: 3
 :00 – 4:00 PM
 PDUs: 1.0 Technical PDU
 Registration Link: https://qrg
 o.page.link/QZ5vH
DTSTART:20201008T190000Z
DTEND:20151130T050000Z
DTSTAMP:20260423T173555Z
ORGANIZER;CN=PMI North Carolina Chapter:MAILTO:bounce@ncpmi.org
END:VEVENT
END:VCALENDAR