BEGIN:VCALENDAR
VERSION:2.0
PRODID:Events Booking
BEGIN:VEVENT
UID:69ea8371c0595
SUMMARY:Higher Education CoP: January 2021 - All Signs Point to Communicati
 on
DESCRIPTION:All Signs Point to Communication
 Speaker: Christine Purchell 
 PMP\, CPTD
 January 20\, 2021
 12- 1 pm
DTSTART:20210120T170000Z
DTEND:20210120T180000Z
DTSTAMP:20260423T203913Z
ORGANIZER;CN=PMI North Carolina Chapter:MAILTO:bounce@ncpmi.org
END:VEVENT
END:VCALENDAR