BEGIN:VCALENDAR
VERSION:2.0
PRODID:Events Booking
BEGIN:VEVENT
UID:69ea861a7f859
SUMMARY:Global CoP: The Smartest Person
DESCRIPTION:7:30AM Login information:&nbsp\; Https://global.gotomeeting.com
 /join/327945821&nbsp\; Access code:&nbsp\; 327-945-821
 &nbsp\;
 Please 
 join our partner Gloabl CoP\, the PMI chapter in Chennai\, India for a can
 't be missed session. &nbsp\;
 Session Objectives
 
 Are you the smarte
 st person in your work\, family\, and friends circles?&nbsp\;
 Should you
  be the smartest person?
 Why can't you be the smartest person?
 If you 
 are not the smartest person then what are you?&nbsp\;
 
 About the Prese
 nter
 Ms. Mei Lin - Project Manager\, City of Plano\, TX and President\, 
 PMI Dallas\, TX
 
 Mei Lin was born and raise in Taiwan and emigrated to
  the USA in 2008. &nbsp\;She is a PMI certified project manager (PMP\, ACP
 \, PBA\, DALSM\, DACI) and is the youngest President of the PMI Dallas\, T
 X Chapter. &nbsp\;
 For decades she has delivered projects for diverse in
 dustries in both public and private sectors. &nbsp\;As a project manager f
 or the city of Plano\, TX\, Mei assists the city in meeting its strategic 
 technology goats by applying the best fir project management methods.&nbsp
 \;
 Mei Lin is the author of Mommy is a Project Manager. She works with a
 nd supports professional women to be proud working mothers.&nbsp\;
 
DTSTART:20201205T123000Z
DTEND:20201205T133000Z
DTSTAMP:20260423T205034Z
ORGANIZER;CN=PMI North Carolina Chapter:MAILTO:bounce@ncpmi.org
END:VEVENT
END:VCALENDAR