BEGIN:VCALENDAR
VERSION:2.0
PRODID:Events Booking
BEGIN:VEVENT
UID:69e79ba9f3e8b
SUMMARY:Global CoP:  Making a Comeback: Reviving Projects towards Success
DESCRIPTION:This is a NCPMI Global CoP:&nbsp\;
 TITLE: Making a Comeback: 
 Reviving Projects Towards Success
 Time:&nbsp\; 8:30am - 9:30am EST&nbsp\
 ;(Registration Begins at 8:00am)
 Location:&nbsp\;&nbsp\;Skype&nbsp\;&nbs
 p\;&nbsp\;&nbsp\;&nbsp\;&nbsp\;&nbsp\;&nbsp\;&nbsp\;&nbsp\;&nbsp\;&nbsp\;&
 nbsp\;&nbsp\;&nbsp\;&nbsp\;&nbsp\;&nbsp\;&nbsp\;&nbsp\;&nbsp\;&nbsp\;&nbsp
 \;&nbsp\;&nbsp\;&nbsp\;&nbsp\;&nbsp\;&nbsp\;&nbsp\;&nbsp\;&nbsp\;&nbsp\;&n
 bsp\;&nbsp\;&nbsp\;&nbsp\;
 Join online meeting&nbsp\;&nbsp\;Join by Phon
 e - Conference ID: 30814732+19842041471\, 30814732# (Dial-in Number) Engli
 sh (United States)&nbsp\;&nbsp\;Find a local numberAn International Event 
 of Project Professionals from Multiple Continents
 Synopsis of Presentati
 on:&nbsp\; An overview will be provided of real life challenges and soluti
 ons.&nbsp\;&nbsp\;These cover early challenges framed by parents-&nbsp\;&n
 bsp\;from high school events\, to University challenges and through\, Grad
 uate apprentice choices.&nbsp\;
 Discussion will be around leadership\, d
 esign progress\, staff management\, and commercial management.&nbsp\;&nbsp
 \;Topics will also include continental transfer\, and reviewing joint vent
 ure opportunities.&nbsp\;&nbsp\;Understanding the challenges of new produc
 t marketing and how Roger himself has been blending part time education wi
 th Technical management and young family commitments with accepting the ne
 ed to change employment to rebranding from engineer to consultant by start
 ing an independent consultancy.&nbsp\;&nbsp\;Know you can be confident in 
 your work by preparing extensively.&nbsp\;&nbsp\;Start with a dinner napki
 n.
 Through this session the participants will be able to (Learning Objec
 tives):
 Conceptualize that the message is very simple either accept what
  is presented or control the outcome.&nbsp\;&nbsp\;Never accept the situat
 ion to be uncontrollable.&nbsp\;&nbsp\;Dig in and be the controller by Per
 severance which is essential.
 Learn how to blend patience and energetic 
 stubbornness to get great value and always prepare for alternate project s
 olutions\, even if one has been initially chosen.&nbsp\;
 Recognize the v
 aluing knowledge sharing and staying current.&nbsp\;&nbsp\;Learning how to
  accept the exciting challenges of life and putting experience to work.
DTSTART:20190817T120000Z
DTEND:20190817T133000Z
DTSTAMP:20260421T154545Z
ORGANIZER;CN=PMI North Carolina Chapter:MAILTO:bounce@ncpmi.org
END:VEVENT
END:VCALENDAR