BEGIN:VCALENDAR
VERSION:2.0
PRODID:Events Booking
BEGIN:VEVENT
UID:69ea416d27936
SUMMARY:Excel Data Analytics and Power BI presented by Dr. Holly Sullenger 
 – Session 3 Fun with Functions Part 2:  Concatenation\, Text to Columns\
 , Substring Functions\, Date Calculations 
DESCRIPTION:Abstract:
 NCPMI in partnership with Dr. Holly Sullenger\, als
 o known as Dr. Holly Speaks\, is offering a Web Seminar Series on Excel Da
 ta Analytics. These $10 sessions&nbsp\;will be hosted online via ZOOM by D
 r. Holly Sullenger and associates.&nbsp\; 
 Topics include:
 
 Understa
 nding Functions (IF\, SUMIF\, VLOOKUP)
 Sorting\, Filtering and Subtotali
 ng Data
 Pivot Tables\, Pivot Charts and Slicers
 Overview of the Power 
 BI Tools
 
LOCATION:Virtual (URL for the session will be provided prior to each weekly
  session)
DTSTART:20200710T160000Z
DTEND:20200710T170000Z
DTSTAMP:20260423T155733Z
ORGANIZER;CN=PMI North Carolina Chapter:MAILTO:bounce@ncpmi.org
GEO:35.896166;-78.870311
X-APPLE-STRUCTURED-LOCATION;VALUE=URI;X-ADDRESS=Virtual (URL for the sessio
 n will be provided prior to each weekly session);X-APPLE-RADIUS=72;X-TITLE
 =Virtual (URL for the session will be provided prior to each weekly sessio
 n):35.896166;-78.870311
END:VEVENT
END:VCALENDAR