BEGIN:VCALENDAR
VERSION:2.0
PRODID:Events Booking
BEGIN:VEVENT
UID:69ea594f759d0
SUMMARY:Leadership CoP: Servant Leadership in Disciplined Agile Delivery!
DESCRIPTION:
LOCATION:Conference Bridge
DTSTART:20200910T220000Z
DTEND:20200910T230000Z
DTSTAMP:20260423T173927Z
ORGANIZER;CN=PMI North Carolina Chapter:MAILTO:bounce@ncpmi.org
END:VEVENT
END:VCALENDAR