BEGIN:VCALENDAR
VERSION:2.0
PRODID:Events Booking
BEGIN:VEVENT
UID:69ea59301e4ec
SUMMARY:Leadership CoP: Ignite Transformational Leadership through Social C
 apital
DESCRIPTION:About the Session:
 Understanding social capital leadership in
  relation to organizational and people goals creates a fertile ground for 
 transformational leadership. Personal and corporate networks\, along with 
 social trust\, facilitate mutually beneficial collaboration. The quality o
 f social relationships influences individual and team behavior and product
 ivity\, leading to transformation and economic growth. This session will e
 xplore how to leverage essential elements of the social capital of leaders
 hip to build trust and get positive outcomes
 Learning Outcomes
 
 Lear
 n why internal and external networking is crucial to transformational lead
 ership.
 Learn how to develop a circle of trusted collaborators who have 
 your back.
 Learn practical strategies for leveraging social capital appr
 oaches in project management approaches
 
DTSTART:20201008T220000Z
DTEND:20201008T230000Z
DTSTAMP:20260423T173856Z
ORGANIZER;CN=PMI North Carolina Chapter:MAILTO:bounce@ncpmi.org
END:VEVENT
END:VCALENDAR