BEGIN:VCALENDAR
VERSION:2.0
PRODID:Events Booking
BEGIN:VEVENT
UID:69ea991708787
SUMMARY:Higher Education CoP Mar 2021: Project management interns: Where ar
 e they now? Learn more about the new project management mentorship program
 \, DEVELPMNT
DESCRIPTION:Project management interns: Where are they now? Learn more abou
 t the new project management mentorship program\, DEVELPMNT
 March 15\, 2
 021 12 p- 1 p
 Register at:&nbsp\;https://qrgo.page.link/H9UTw
DTSTART:20210315T160000Z
DTEND:20210315T170000Z
DTSTAMP:20260423T221135Z
ORGANIZER;CN=PMI North Carolina Chapter:MAILTO:bounce@ncpmi.org
END:VEVENT
END:VCALENDAR