BEGIN:VCALENDAR
VERSION:2.0
PRODID:Events Booking
BEGIN:VEVENT
UID:69ea428fcce29
SUMMARY:Healthcare CoP: Practicing Good Nutrition While Working from Home
DESCRIPTION:Abstract:
 Have you struggled with maintaining good eating hab
 its while working from home?&nbsp\; Has the new normal and your home envir
 onment made it difficult to stay on track? If your answer is yes\, you are
  far from alone. Learn how to establish and maintain healthy eating habits
  while working remotely from home in this era of Covid-19.&nbsp\;
 Tonigh
 t's presentation from nutritionist\, Diane Butler will cover the importanc
 e of creating healty habits at home and a plan to maintain those habits lo
 ng term.
 Learning Objectives:
 
 Acknowledging your current habits&nbs
 p\;
 Establishing healthy eating habits at home
 Maintaining healthy eat
 ing habits at home
 
 About the Speaker
 
 Diane Butler has a passion 
 for food and healthier living. &nbsp\;Her love for healthier eating and th
 e desire to help those living with Diabetes encouraged her to change her c
 areer path and &nbsp\;pursue becoming a Registered Dietitian. &nbsp\;Diane
  has been a Registered Dietitian for almost 7 years\, becoming a &nbsp\;Bo
 ard Certified CDCES (Certified Diabetes Care and Education Specialist) rec
 ently. She has created a cookbook for her church organization with the col
 laboration of the Food Pantry volunteers\, using foods that were given in 
 that week's food distribution to make healthier recipes. &nbsp\;She has al
 so volunteered with other health organizations like the Interfaith Food Sh
 uttle\, Taking Care of Your Diabetes and the &nbsp\;Raleigh Urban Mission\
 , creating cooking demonstration videos for audiences affected by Diabetes
 \, Heart Disease and Hypertension. &nbsp\;Diane earned her BA in Communica
 tions from Winthrop University and attended Meredith for Dietetics. When n
 ot pursuing her passions\, Diane loves spending time with her husband\, da
 ughter and their two dogs-Finnick and Sully (both rescues). &nbsp\;
 &nbs
 p\;
 Meeting Details:
 Topic: Healthcare CoP: Practicing Good Nutrition 
 While Working from HomeTime: Jul 29\, 2020 06:00 PM Eastern Time (US and C
 anada)
 Join Zoom Meetinghttps://zoom.us/j/97083368316?pwd=L09YcGQvUlpkMm
 xhS2QyeUFoeUtmdz09
 Meeting ID: 970 8336 8316Passcode: 908975One tap mobi
 le+13017158592\,\,97083368316#\,\,\,\,\,\,0#\,\,908975# US (Germantown)+13
 126266799\,\,97083368316#\,\,\,\,\,\,0#\,\,908975# US (Chicago)
 Dial by 
 your location +1 301 715 8592 US (Germantown) +1 312 626 6799 US (Chicago)
  +1 929 205 6099 US (New York) +1 253 215 8782 US (Tacoma) +1 346 248 7799
  US (Houston) +1 669 900 6833 US (San Jose)Meeting ID: 970 8336 8316Passco
 de: 908975Find your local number: https://zoom.us/u/aeaZ2Y49Ey
 &nbsp\;
LOCATION:Conference Bridge
DTSTART:20200729T220000Z
DTEND:20200729T230000Z
DTSTAMP:20260423T160223Z
ORGANIZER;CN=PMI North Carolina Chapter:MAILTO:bounce@ncpmi.org
END:VEVENT
END:VCALENDAR