BEGIN:VCALENDAR
VERSION:2.0
PRODID:Events Booking
BEGIN:VEVENT
UID:69e79d26dc02c
SUMMARY:Higher Education CoP - June 2019: Better Questions\, Clearer Answer
 s\, Bigger Impact
DESCRIPTION:Today’s economy rewards organizations\, leaders\, and individ
 uals who know how to quickly access and communicate their best thinking. Y
 et many of us believe that we can’t dramatically advance our analytic ca
 pability or learn to think more powerfully in collaboration with others. I
 f you are buying into this myth\, you aren’t tapping anywhere close to y
 our or your organization’s full potential. Cutting-edge knowledge work a
 sks for innovation amidst growing complexity\, performance pressure\, and 
 distraction. In this demanding context\, savvy questions and clear\, conci
 se answers are our most effective tools for improving focus\, engagement\,
  and execution. This seminar will introduce you to the Precision Q+A™ fr
 amework. Tested over two decades in some of the world’s most respected b
 usinesses and universities\, the Precision Q+A™ framework teaches you ho
 w to bring the best of your analytic and social-emotional intelligence to 
 the business problems your organization is tackling.
LOCATION:701 W Main St\, Durham\, NC 27701\, USA
DTSTART:20190613T190000Z
DTEND:20190613T210000Z
DTSTAMP:20260421T155206Z
ORGANIZER;CN=PMI North Carolina Chapter:MAILTO:bounce@ncpmi.org
GEO:35.998782;-78.908137
X-APPLE-STRUCTURED-LOCATION;VALUE=URI;X-ADDRESS=701 W Main St\, Durham\, NC
  27701\, USA;X-APPLE-RADIUS=72;X-TITLE=The Chesterfield | 701 W Main St\, 
 Durham\, NC 27701:35.998782;-78.908137
END:VEVENT
END:VCALENDAR