BEGIN:VCALENDAR
VERSION:2.0
PRODID:Events Booking
BEGIN:VEVENT
UID:69ec9d8fbdaf3
SUMMARY:Communications CoP: Conflict Resolution Tips for Project Managers
DESCRIPTION:This is a NCPMI Communication &amp\; Public Speaking CoP- NCPL 
 Toastmasters Club Meeting. The Meeting includes prepared speeches\, table 
 topics\, networking\, evaluations\, jokes and multiple meeting operations 
 roles. 5:30 pm -8:00 pm (5.30-6.00 Registration\, Snack &amp\; Pre-meeting
  Networking)
 Cisco Campus - Building 3\, First Floor\, The Vault Confere
 nce Room
 Abstract:
 Quickly resolving conflicts can be the difference b
 etween success or failure as a project management professional. Working to
 gether with team members to solve small differences\, before they escalate
  and become a major source of discord\, is key to having and maintaining a
  functioning and productive team.&nbsp\;
 In life and in business\, confl
 icts are inevitable. Everyone has different goals\, different values and d
 ifferent perceptions on an endless variety of issues and situations.
 Any
  of these sounds familiar?
 
 Being aggressive?&nbsp\;
 Escalations?&nb
 sp\;
 Getting angry?
 Obstruction?&nbsp\;
 Withdrawing?&nbsp\;
 
 All
  can be symptoms of unresolved conflict.
 Learning Objectives:
 
 Recog
 nize the target area of the beginning of conflict
 Recognize how and why 
 conflicts begin
 Understand ways to prevent conflict
 Know how to change
  conflict into a solution
 
 About the Speaker:
 
 Nehal Tanna is Assi
 stant Vice President – Global Risk Project Manager at Bank of America\, 
 Charlotte\, NC. As Global Risk Manager\, Nehal is responsible for Initiati
 ve Planning\, People Strategy as well as Global Diversity and Inclusion. P
 revious positions held at Bank of America include Program Manager\, Risk R
 emediation and Business Control Specialist.&nbsp\;
 Nehal is the Communic
 ation and Professional Development chair for the Bank of America Asian Lea
 dership Network. She also serves as the Leadership\, Education\, Advocacy 
 and Development (LEAD) Ambassador for women and a Mentor for Women in Tech
 nology at Bank of America. Nehal joined Bank of America following graduati
 on from University of North Carolina at Charlotte.
 As a graduate of the 
 University of North Carolina\, Excellence was Nehal’s standard in being 
 the first student in the history of her university to be awarded the Derri
 ck Griffith Legacy Leader Award for her servant leadership at multiple uni
 versity organizations and for achieving a perfect 4.0 GPA.
 Other notable
  achievements include 2017 Toastmasters District 37 Fall Conference speake
 r\, 2018 District 66 Spring Conference Speaker\, presenter at the 2018 Dis
 trict 37 Toastmasters Leadership Institute Extravaganza and two-time Tripl
 e Crown award winner.
 Outside of Toastmasters and Bank of America\, Neha
 l models Respect for others in her volunteer service to several community-
 based organizations such as Dress for Success where Nehal serves as a coun
 selor for women who are re-entering the work force and serving as a Math T
 utor for Heart Elementary school.&nbsp\;
LOCATION:7025 Kit Creek Rd\, Morrisville\, NC 27560\, USA
DTSTART:20191126T223000Z
DTEND:20191127T010000Z
DTSTAMP:20260425T105511Z
ORGANIZER;CN=PMI North Carolina Chapter:MAILTO:bounce@ncpmi.org
GEO:35.854621;-78.872049
X-APPLE-STRUCTURED-LOCATION;VALUE=URI;X-ADDRESS=7025 Kit Creek Rd\, Morrisv
 ille\, NC 27560\, USA;X-APPLE-RADIUS=72;X-TITLE=Cisco Campus | Building 3\
 , First Floor\, The Vault Conference Room:35.854621;-78.872049
END:VEVENT
END:VCALENDAR