BEGIN:VCALENDAR
VERSION:2.0
PRODID:Events Booking
BEGIN:VEVENT
UID:69ea34090ff31
SUMMARY:Communications CoP: Zooming Around
DESCRIPTION:This is a NCPMI Communication &amp\; Public Speaking CoP- NCPL 
 Toastmasters Club Meeting.The Meeting includes prepared speeches\, table t
 opics\, networking\, evaluations\, jokes and multiple meeting operations r
 oles.5:50 pm – 8:00 pm (5:50 pm – 6:10 pm) Registration &amp\; Pre-mee
 ting Networking
 Meeting will be convened by Virtual Conference Call
 Ab
 stract
 
 In our “new world” of digital\, now is the time to jump in
  and go online to make your knowledge available. One method is through a p
 odcast. How do you create a podcast? What type of podcast would be the bes
 t for your subject?&nbsp\;
 The objective of the presentation: Dea will s
 hare her process of creating a podcast and perhaps inspire the audience to
  do the same.&nbsp\;
 
 
 &nbsp\;
 
LOCATION:Conference Bridge
DTSTART:20200526T215000Z
DTEND:20200527T000000Z
DTSTAMP:20260423T150025Z
ORGANIZER;CN=PMI North Carolina Chapter:MAILTO:bounce@ncpmi.org
END:VEVENT
END:VCALENDAR