BEGIN:VCALENDAR
VERSION:2.0
PRODID:Events Booking
BEGIN:VEVENT
UID:69ea32f01b169
SUMMARY:Communications CoP: “Scientists say…” critically evaluating s
 cientific news for non-scientists
DESCRIPTION:This is a NCPMI Communication &amp\; Public Speaking CoP- NCPL 
 Toastmasters Club Meeting.The Meeting includes prepared speeches\, table t
 opics\, networking\, evaluations\, jokes and multiple meeting operations r
 oles.5:45 pm - 8:00 pm (5.45 - 6.00 Registration &amp\; Pre-meeting Networ
 king)
 Meeting will be convened by Virtual Conference Call
 Abstract
 
 
 The infectious disease COVID-19 is crippling most aspects of society. En
 ding this pandemic will require scientists to develop ways of diagnosing\,
  treating and preventing the disease\, and the public is understandably ea
 ger to know how close scientists are to these goals. However\, scientists 
 often struggle to effectively communicate their research to non-experts\, 
 and both politicians and the media are imperfect intermediaries. Using exa
 mples relevant to COVID-19\, this talk will help non-scientists to evaluat
 e what scientists say and understand what they really mean. It will also p
 rovide advice for effectively discussing technical information with lay au
 diences.
 Learning Objectives:
 
 Understand the “business” of acad
 emic science
 Learn how to evaluate the who\, what\, and why of science n
 ews
 Identify common unreported limitations of scientific studies
 Discu
 ss ways scientists and non-scientists can communicate more effectively&nbs
 p\;
 
 About the Speaker
 
 
 Dr. Andrew Macintyre is an assistant pr
 ofessor at the Duke Human Vaccine Institute\, where he leads a team develo
 ping treatments and vaccines for infectious diseases. Prior to joining the
  DHVI\, he managed professional development and education projects for the
  American Society for Biochemistry and Molecular Biology.
 
 
LOCATION:Conference Bridge
DTSTART:20200623T213000Z
DTEND:20200624T000000Z
DTSTAMP:20260423T145544Z
ORGANIZER;CN=PMI North Carolina Chapter:MAILTO:bounce@ncpmi.org
END:VEVENT
END:VCALENDAR