BEGIN:VCALENDAR
VERSION:2.0
PRODID:Events Booking
BEGIN:VEVENT
UID:69e79c02bf8c8
SUMMARY:Communications CoP: What is your 6-word story?
DESCRIPTION:This is a NCPMI Communication &amp\; Public Speaking CoP- NCPL 
 Toastmasters Club Meeting. The Meeting includes prepared speeches\, table 
 topics\, networking\, evaluations\, jokes and multiple meeting operations 
 roles. 5:30 pm -8:00 pm (5.30-6.00 Registration\, Snack &amp\; Pre-meeting
  Networking)Cisco Campus - Building 3\, First Floor\, The Vault Conference
  Room
 Abstract
 This session will be an interactive workshop where each
  audience member will develop their own 6-Word Story. Why would we do this
 ?&nbsp\; In Toastmasters and life we learn over time what a gift it is to 
 be precise\, succinct.&nbsp\; We have been taught to have an \"elevator sp
 eech\" at the ready.&nbsp\; What if the elevator only goes up one floor?&n
 bsp\; What if the CEO of your company meets you one day and says \"What do
  you do for the company?\" The 6-Word Story can be used in a variety of fa
 cets of your life.&nbsp\; We will discuss the possibilities. Our workshop 
 will allow you to develop a 6-word story about who you are professionally 
 or personally.
 Learning Objective
 The learning goal is to develop a me
 ssage that meets your needs: emotional\, impactful or informative. You wil
 l decide how your 6-word story will be conveyed.&nbsp\; I invite you to jo
 in us in being concise about yourself!&nbsp\;
LOCATION:7025 Kit Creek Rd\, Morrisville\, NC 27560\, USA
DTSTART:20190611T213000Z
DTEND:20190612T000000Z
DTSTAMP:20260421T154714Z
ORGANIZER;CN=PMI North Carolina Chapter:MAILTO:bounce@ncpmi.org
GEO:35.854621;-78.872049
X-APPLE-STRUCTURED-LOCATION;VALUE=URI;X-ADDRESS=7025 Kit Creek Rd\, Morrisv
 ille\, NC 27560\, USA;X-APPLE-RADIUS=72;X-TITLE=Cisco Campus | Building 3\
 , First Floor\, The Vault Conference Room:35.854621;-78.872049
END:VEVENT
END:VCALENDAR