BEGIN:VCALENDAR
VERSION:2.0
PRODID:Events Booking
BEGIN:VEVENT
UID:69ea037f3bbd7
SUMMARY:Communications CoP: Understanding Motivations
DESCRIPTION:This is a NCPMI Communication &amp\; Public Speaking CoP- NCPL 
 Toastmasters Club Meeting. The Meeting includes prepared speeches\, table 
 topics\, networking\, evaluations\, jokes and multiple meeting operations 
 roles. 5:30 pm -8:00 pm (5.30-6.00 Registration\, Snack &amp\; Pre-meeting
  Networking)
 Cisco Campus - Building 3\, First Floor\, The Vault Confere
 nce Room
 Abstract
 
 The goal to accomplish my doctorate started with 
 the quest to understand what motivates us as adults to pursue a goal. Appr
 opriately\, the learning objectives for our discussion will involve:
 
 
 Understanding and identifying personal motivations
 Acting on personal mo
 tivations for career
 Focusing on career goals
 
 About the Speaker
 
 
 Dr. Charles Harvey has considerable experience as an educational consult
 ant\, having worked in the corporate sector for two major organizations\, 
 including Blue Cross Blue Shield. His work in corporate and currently as a
 n independent consultant helped many adults reach their educational goals 
 and achieve success in chosen profession or career.
 Dr. Harvey holds a D
 octor of Education degree from Nova Southeastern University in Higher Educ
 ation\, a&nbsp\;Master of Science in Teaching/Education from Pace Universi
 ty and is a graduate of Harvard University Executive Education Program (Ke
 nnedy School). He graduated Phi Kappa Phi and is a member of Kappa Delta P
 i International Education Honor Society\, Alpha Phi Alpha Fraternity\, Inc
 .\, and Toastmasters International with designations: Distinguished Toastm
 aster\, Learning Master\, Past District Governor\, leading District 37 to 
 a top 10 ranking in the world..
 He is a member of Higher Education Consu
 ltants Association (HECA).
 
LOCATION:7025 Kit Creek Rd\, Morrisville\, NC 27560\, USA
DTSTART:20200128T223000Z
DTEND:20200129T010000Z
DTSTAMP:20260423T113319Z
ORGANIZER;CN=PMI North Carolina Chapter:MAILTO:bounce@ncpmi.org
GEO:35.854621;-78.872049
X-APPLE-STRUCTURED-LOCATION;VALUE=URI;X-ADDRESS=7025 Kit Creek Rd\, Morrisv
 ille\, NC 27560\, USA;X-APPLE-RADIUS=72;X-TITLE=Cisco Campus | Building 3\
 , First Floor\, The Vault Conference Room:35.854621;-78.872049
END:VEVENT
END:VCALENDAR